BEGIN:VCALENDAR
VERSION:2.0
PRODID:-// - ECPv6.15.20//NONSGML v1.0//EN
CALSCALE:GREGORIAN
METHOD:PUBLISH
X-ORIGINAL-URL:https://skiclub-mitterskirchen.de
X-WR-CALDESC:Veranstaltungen für 
REFRESH-INTERVAL;VALUE=DURATION:PT1H
X-Robots-Tag:noindex
X-PUBLISHED-TTL:PT1H
BEGIN:VTIMEZONE
TZID:Europe/Berlin
BEGIN:DAYLIGHT
TZOFFSETFROM:+0100
TZOFFSETTO:+0200
TZNAME:CEST
DTSTART:20210328T010000
END:DAYLIGHT
BEGIN:STANDARD
TZOFFSETFROM:+0200
TZOFFSETTO:+0100
TZNAME:CET
DTSTART:20211031T010000
END:STANDARD
BEGIN:DAYLIGHT
TZOFFSETFROM:+0100
TZOFFSETTO:+0200
TZNAME:CEST
DTSTART:20220327T010000
END:DAYLIGHT
BEGIN:STANDARD
TZOFFSETFROM:+0200
TZOFFSETTO:+0100
TZNAME:CET
DTSTART:20221030T010000
END:STANDARD
BEGIN:DAYLIGHT
TZOFFSETFROM:+0100
TZOFFSETTO:+0200
TZNAME:CEST
DTSTART:20230326T010000
END:DAYLIGHT
BEGIN:STANDARD
TZOFFSETFROM:+0200
TZOFFSETTO:+0100
TZNAME:CET
DTSTART:20231029T010000
END:STANDARD
END:VTIMEZONE
BEGIN:VEVENT
DTSTART;TZID=Europe/Berlin:20220723T120000
DTEND;TZID=Europe/Berlin:20220723T190000
DTSTAMP:20260423T134147
CREATED:20220524T040050Z
LAST-MODIFIED:20220805T093218Z
UID:2420-1658577600-1658602800@skiclub-mitterskirchen.de
SUMMARY:2. Schloßberg-Quickie
DESCRIPTION:« Alle Veranstaltungen\n 				\n				\n				\n				\n					\n		\n			13.März.2026\n\n	\n\n	  @  \n\n\n18:00\n\n		\n\n\n\n	\n	  -  \n\n20:00\n\n\n\n	\n				\n				\n				\n				\n					\n	Anprobe Skianzüge				\n				\n				\n				\n									Wir planen derzeit wieder die Anschaffung von Skianzügen und wollen unseren Auftritt wieder vereinheitlichen\, daher werden wir gleiche Anzüge für Skilehrer und Jugendteam anschaffen. Natürlich können auch interessierte Vereinsmitglieder bestellen.								\n				\n				\n				\n					\n	\n				\n				\n				\n				\n							\n			\n						\n		\n						\n				\n				\n				\n									Kurz die Eckdaten:Anzüge geplant (für Skilehrer\, Jugendteam und interessierte Mitglieder)Softshelljacken (dunkelblau) sind optional auch erhältlichMarke: SchöffelFarben: Rot-WeinrotAnprobe und Bestellung: 13.03.2026 um 18 UhrLieferung: November 2026Anschaffung über Mode+Sport Schwinghammer								\n				\n				\n				\n							\n			\n						\n		\n						\n				\n				\n				\n									Anprobe und verbindliche Bestellung								\n				\n				\n				\n							\n							\n											\n													\n										13.03.2026\n									\n								\n											\n													\n										18:00 Uhr\n									\n								\n											\n													\n										Stüberl der ESV-Mehrzweckhalle\n									\n						\n						\n				\n				\n				\n							\n			\n						\n		\n						\n				\n				\n						\n					\n			\n						\n				\n					\n	\n		\n\n	\n	Zum Kalender hinzufügen	\n		\n	\n\n		\n			\n									\n	Google Kalender\n\n									\n	iCalendar\n\n									\n	Outlook 365\n\n									\n	Outlook Live\n\n							\n		\n\n		\n	\n\n				\n				\n					\n		\n				\n			\n						\n				\n					\n	\n	Datum und Uhrzeit:	\n			13.März.2026\n\n		\n\n\n	\n				\n				\n				\n				\n					\n		\n		\n\n\n18:00\n\n		\n\n\n\n	\n	  -  \n\n20:00\n\n\n\n	\n				\n				\n				\n				\n					\n	\n\n	Kategorien:	\n		Jugendteam Rennen\, News\, Skifahrten\, Skikurse	\n\n				\n				\n					\n		\n				\n			\n						\n				\n					\n	\n	Veranstalter\n	Skiclub Mitterskirchen\n	\n	\n\n	Telefon:\n					\n			+43 677 62579256			\n	 \n\n\n	\n	E-Mail:\n					\n			skikursanmeldung@skiclub-mitterskirchen.de			\n	 \n\n\n\n				\n				\n					\n		\n				\n			\n						\n				\n					\n				\n				\n	\n	ESV Mehrzweckhalle\n	\n	Adresse:\n	\n\nAm Wassersgarten 5\n	\n		\n		Mitterskirchen\,\n\n\n	84335\n\n	Deutschland\n\n\n\n\n	Google Karte anzeigen \n\n\n	\n					\n						\n	 \n\n\n	\n	 \n\n\n\n	\n\n\n\n		\n	\n				\n				\n					\n		\n					\n		\n				\n				\n							\n			\n						\n		\n						\n				\n				\n				\n							\n			\n						\n		\n						\n				\n				\n				\n					\n	\n		\n\n				3. Familienfahrt Zauchensee	\n\n\n		\n	\n		Siegerehrung Kreismeisterschaft
URL:https://skiclub-mitterskirchen.de/skifahrten/2-schlossberg-quickie/
LOCATION:Schloßberglift Wurmannsquick\, Schloßbergstraße\, Wurmannsquick\, Bayern\, 84329\, Deutschland
CATEGORIES:Skifahrten
ATTACH;FMTTYPE=image/webp:https://skiclub-mitterskirchen.de/wp-content/uploads/2022/05/IMG_20210717_200847_303.webp
ORGANIZER;CN="Sebastian Henghuber":MAILTO:skikursanmeldung@skiclub-mitterskirchen.de
END:VEVENT
BEGIN:VEVENT
DTSTART;TZID=Europe/Berlin:20220729T210000
DTEND;TZID=Europe/Berlin:20220730T015900
DTSTAMP:20260423T134148
CREATED:20220626T110615Z
LAST-MODIFIED:20220805T093646Z
UID:2424-1659128400-1659146340@skiclub-mitterskirchen.de
SUMMARY:Grillen für Skilehrer und Jugendteam
DESCRIPTION:« Alle Veranstaltungen\n 				\n				\n				\n				\n					\n		\n			13.März.2026\n\n	\n\n	  @  \n\n\n18:00\n\n		\n\n\n\n	\n	  -  \n\n20:00\n\n\n\n	\n				\n				\n				\n				\n					\n	Anprobe Skianzüge				\n				\n				\n				\n									Wir planen derzeit wieder die Anschaffung von Skianzügen und wollen unseren Auftritt wieder vereinheitlichen\, daher werden wir gleiche Anzüge für Skilehrer und Jugendteam anschaffen. Natürlich können auch interessierte Vereinsmitglieder bestellen.								\n				\n				\n				\n					\n	\n				\n				\n				\n				\n							\n			\n						\n		\n						\n				\n				\n				\n									Kurz die Eckdaten:Anzüge geplant (für Skilehrer\, Jugendteam und interessierte Mitglieder)Softshelljacken (dunkelblau) sind optional auch erhältlichMarke: SchöffelFarben: Rot-WeinrotAnprobe und Bestellung: 13.03.2026 um 18 UhrLieferung: November 2026Anschaffung über Mode+Sport Schwinghammer								\n				\n				\n				\n							\n			\n						\n		\n						\n				\n				\n				\n									Anprobe und verbindliche Bestellung								\n				\n				\n				\n							\n							\n											\n													\n										13.03.2026\n									\n								\n											\n													\n										18:00 Uhr\n									\n								\n											\n													\n										Stüberl der ESV-Mehrzweckhalle\n									\n						\n						\n				\n				\n				\n							\n			\n						\n		\n						\n				\n				\n						\n					\n			\n						\n				\n					\n	\n		\n\n	\n	Zum Kalender hinzufügen	\n		\n	\n\n		\n			\n									\n	Google Kalender\n\n									\n	iCalendar\n\n									\n	Outlook 365\n\n									\n	Outlook Live\n\n							\n		\n\n		\n	\n\n				\n				\n					\n		\n				\n			\n						\n				\n					\n	\n	Datum und Uhrzeit:	\n			13.März.2026\n\n		\n\n\n	\n				\n				\n				\n				\n					\n		\n		\n\n\n18:00\n\n		\n\n\n\n	\n	  -  \n\n20:00\n\n\n\n	\n				\n				\n				\n				\n					\n	\n\n	Kategorien:	\n		Jugendteam Rennen\, News\, Skifahrten\, Skikurse	\n\n				\n				\n					\n		\n				\n			\n						\n				\n					\n	\n	Veranstalter\n	Skiclub Mitterskirchen\n	\n	\n\n	Telefon:\n					\n			+43 677 62579256			\n	 \n\n\n	\n	E-Mail:\n					\n			skikursanmeldung@skiclub-mitterskirchen.de			\n	 \n\n\n\n				\n				\n					\n		\n				\n			\n						\n				\n					\n				\n				\n	\n	ESV Mehrzweckhalle\n	\n	Adresse:\n	\n\nAm Wassersgarten 5\n	\n		\n		Mitterskirchen\,\n\n\n	84335\n\n	Deutschland\n\n\n\n\n	Google Karte anzeigen \n\n\n	\n					\n						\n	 \n\n\n	\n	 \n\n\n\n	\n\n\n\n		\n	\n				\n				\n					\n		\n					\n		\n				\n				\n							\n			\n						\n		\n						\n				\n				\n				\n							\n			\n						\n		\n						\n				\n				\n				\n					\n	\n		\n\n				3. Familienfahrt Zauchensee	\n\n\n		\n	\n		Siegerehrung Kreismeisterschaft
URL:https://skiclub-mitterskirchen.de/skifahrten/grillen-fuer-skilehrer-und-jugendteam/
LOCATION:ESV Mehrzweckhalle\, Am Wassersgarten 5\, Mitterskirchen\, 84335\, Deutschland
CATEGORIES:News,Skifahrten,Skikurse
ORGANIZER;CN="Sebastian Henghuber":MAILTO:skikursanmeldung@skiclub-mitterskirchen.de
END:VEVENT
END:VCALENDAR