BEGIN:VCALENDAR
VERSION:2.0
PRODID:-// - ECPv6.15.20//NONSGML v1.0//EN
CALSCALE:GREGORIAN
METHOD:PUBLISH
X-ORIGINAL-URL:https://skiclub-mitterskirchen.de
X-WR-CALDESC:Veranstaltungen für 
REFRESH-INTERVAL;VALUE=DURATION:PT1H
X-Robots-Tag:noindex
X-PUBLISHED-TTL:PT1H
BEGIN:VTIMEZONE
TZID:Europe/Berlin
BEGIN:DAYLIGHT
TZOFFSETFROM:+0100
TZOFFSETTO:+0200
TZNAME:CEST
DTSTART:20240331T010000
END:DAYLIGHT
BEGIN:STANDARD
TZOFFSETFROM:+0200
TZOFFSETTO:+0100
TZNAME:CET
DTSTART:20241027T010000
END:STANDARD
BEGIN:DAYLIGHT
TZOFFSETFROM:+0100
TZOFFSETTO:+0200
TZNAME:CEST
DTSTART:20250330T010000
END:DAYLIGHT
BEGIN:STANDARD
TZOFFSETFROM:+0200
TZOFFSETTO:+0100
TZNAME:CET
DTSTART:20251026T010000
END:STANDARD
BEGIN:DAYLIGHT
TZOFFSETFROM:+0100
TZOFFSETTO:+0200
TZNAME:CEST
DTSTART:20260329T010000
END:DAYLIGHT
BEGIN:STANDARD
TZOFFSETFROM:+0200
TZOFFSETTO:+0100
TZNAME:CET
DTSTART:20261025T010000
END:STANDARD
END:VTIMEZONE
BEGIN:VEVENT
DTSTART;TZID=Europe/Berlin:20251204T080000
DTEND;TZID=Europe/Berlin:20251206T170000
DTSTAMP:20260420T101154
CREATED:20251001T180007Z
LAST-MODIFIED:20250924T121412Z
UID:32483-1764835200-1765040400@skiclub-mitterskirchen.de
SUMMARY:Weihnachtsmarkt am Wassergarten
DESCRIPTION:« Alle Veranstaltungen\n 				\n				\n				\n				\n					\n		\n			4.Dezember.2025\n\n	\n\n	  @  \n\n\n8:00\n\n	\n\n		\n	\n	  -  \n\n	6.Dezember.2025\n\n	\n\n	  @  \n\n\n17:00\n\n\n\n	\n				\n				\n				\n				\n					\n	Weihnachtsmarkt am Wassergarten				\n				\n				\n				\n									Auch wir sind am Weihnachtsmarkt der Gemeinde am Wassergarten dabei. Wir freuen uns auf eueren Besuch! 								\n				\n				\n				\n					\n	\n				\n				\n				\n				\n							\n			\n						\n		\n						\n				\n				\n				\n							\n							\n											\n													\n										Wassergarten Mitterskirchen\n									\n								\n											\n													\n										Tag 1: Donnerstag\, 4. Dezember\, ab 17.00 Uhr\n									\n								\n											\n													\n										Tag 2: Freitag\, 5. Dezember\, ab 17.00 Uhr\n									\n								\n											\n													\n										Tag 3: Samstag\, 6. Dezember\, ab 14.00 Uhr\n									\n						\n						\n				\n				\n				\n							\n			\n						\n		\n						\n				\n				\n						\n					\n			\n						\n				\n					\n	\n		\n\n	\n	Zum Kalender hinzufügen	\n		\n	\n\n		\n			\n									\n	Google Kalender\n\n									\n	iCalendar\n\n									\n	Outlook 365\n\n									\n	Outlook Live\n\n							\n		\n\n		\n	\n\n				\n				\n					\n		\n				\n			\n						\n				\n					\n	\n	Datum und Uhrzeit:	\n			4.Dezember.2025\n\n		\n	\n	  -  \n\n	6.Dezember.2025\n\n	\n				\n				\n				\n				\n					\n		\n		\n\n\n8:00\n\n	\n\n		\n\n\n\n	\n	  -  \n\n17:00\n\n\n\n	\n				\n				\n				\n				\n					\n	\n\n	Kategorien:	\n		Skifahrten	\n\n				\n				\n					\n		\n				\n			\n						\n				\n					\n	\n	Veranstalter\n	ESV Mitterskirchen\n	\n	\n\n	Telefon:\n					\n						\n	 \n\n\n	\n	E-Mail:\n					\n						\n	 \n\n\n\n				\n				\n					\n		\n				\n			\n						\n				\n					\n				\n				\n	\n	Wassergarten Mitterskirchen\n	\n	Adresse:\n	\n\nAm Wassergarten\n	\n		\n		Mitterskirchen\,\n\n\n	84335\n\n\n\n\n\n	Google Karte anzeigen \n\n\n	\n					\n						\n	 \n\n\n	\n	 \n\n\n\n	\n\n\n\n		\n	\n				\n				\n					\n		\n					\n		\n				\n				\n							\n			\n						\n		\n						\n				\n				\n				\n					\n	\n		\n\n				Eröffnungsfahrt 2025 - Obertauern	\n\n\n		\n	\n		Skikurs 2025 - Leogang
URL:https://skiclub-mitterskirchen.de/skifahrten/weihnachtsmarkt-am-wassergarten-3/
LOCATION:Wassergarten Mitterskirchen\, Am Wassergarten\, Mitterskirchen\, 84335
CATEGORIES:Skifahrten
ATTACH;FMTTYPE=image/jpeg:https://skiclub-mitterskirchen.de/wp-content/uploads/2022/12/IMG20221203193715-scaled.jpg
END:VEVENT
END:VCALENDAR